BEGIN:VCALENDAR
VERSION:2.0
PRODID:-//FEXVELA - ECPv4.9.10//NONSGML v1.0//EN
CALSCALE:GREGORIAN
METHOD:PUBLISH
X-WR-CALNAME:FEXVELA
X-ORIGINAL-URL:http://www.fexvela.com
X-WR-CALDESC:Eventos para FEXVELA
BEGIN:VTIMEZONE
TZID:Europe/Helsinki
BEGIN:DAYLIGHT
TZOFFSETFROM:+0200
TZOFFSETTO:+0300
TZNAME:EEST
DTSTART:20180325T010000
END:DAYLIGHT
BEGIN:STANDARD
TZOFFSETFROM:+0300
TZOFFSETTO:+0200
TZNAME:EET
DTSTART:20181028T010000
END:STANDARD
END:VTIMEZONE
BEGIN:VEVENT
DTSTART;VALUE=DATE:20181103
DTEND;VALUE=DATE:20181105
DTSTAMP:20260419T131858
CREATED:20181004T181105Z
LAST-MODIFIED:20181019T112355Z
UID:2211-1541203200-1541375999@www.fexvela.com
SUMMARY:3 CAP Extremadura OPTIMIST 2018
DESCRIPTION:3º CAP OPTIMIST EXTREMADURA 2018\n03 y 04 de noviembre de 2018\nEn aguas del Lago de Orellana (Orellana la Vieja – Extremadura)\, y en las instalaciones del Centro Ibérico de Vela\, se celebrará durante los días 03 y 04 de noviembre\, el Campeonato Regional Extremeño de la clase Optimist en su tercera prueba (3º CAP) en la categoría infantil de 8 a 15 años\, valedero tanto para el campeonato de Extremadura como para obtener puntuación para  participar en la Copa de España y el Campeonato Nacional de la clase. \n
URL:http://www.fexvela.com/evento/3-cap-extremadura-optimist-2018/
LOCATION:Embalse de Orellana\, Camino Piscifactoría\, 2\, Orellana la Vieja\, Badajoz\, 06740\, España
CATEGORIES:Centro Ibérico de Vela,Regatas y Competición
ATTACH;FMTTYPE=image/jpeg:http://www.fexvela.com/wp-content/uploads/2012/10/optimists-Barlovento.jpg
ORGANIZER;CN="Federaci%C3%B3n%20Extreme%C3%B1a%20de%20Vela":MAILTO:secretaria@fexvela.com
END:VEVENT
END:VCALENDAR