BEGIN:VCALENDAR
VERSION:2.0
PRODID:-//FEXVELA - ECPv4.9.10//NONSGML v1.0//EN
CALSCALE:GREGORIAN
METHOD:PUBLISH
X-WR-CALNAME:FEXVELA
X-ORIGINAL-URL:http://www.fexvela.com
X-WR-CALDESC:Eventos para FEXVELA
BEGIN:VTIMEZONE
TZID:Europe/Helsinki
BEGIN:DAYLIGHT
TZOFFSETFROM:+0200
TZOFFSETTO:+0300
TZNAME:EEST
DTSTART:20210328T010000
END:DAYLIGHT
BEGIN:STANDARD
TZOFFSETFROM:+0300
TZOFFSETTO:+0200
TZNAME:EET
DTSTART:20211031T010000
END:STANDARD
END:VTIMEZONE
BEGIN:VEVENT
DTSTART;VALUE=DATE:20211204
DTEND;VALUE=DATE:20211207
DTSTAMP:20260420T011639
CREATED:20211113T121923Z
LAST-MODIFIED:20211116T160348Z
UID:2663-1638576000-1638835199@www.fexvela.com
SUMMARY:Campeonato de Extremadura 2021\, de las clases Optimist y Laser (ILCA 6 / ILCA 7)
DESCRIPTION:Haga clic en el cartel\, para ir a la página del evento \nCartel \n
URL:http://www.fexvela.com/evento/campeonato-de-extremadura-2021-de-las-clases-optimist-y-laser-ilca/
LOCATION:Centro Ibérico de Vela\, Cerro de la Herrería\, s/n\, Orellana laVieja\, Badajoz\, 06740\, España
CATEGORIES:Regatas y Competición
ORGANIZER;CN="Federaci%C3%B3n%20Extreme%C3%B1a%20de%20Vela":MAILTO:secretaria@fexvela.com
END:VEVENT
END:VCALENDAR