BEGIN:VCALENDAR
VERSION:2.0
PRODID:-//FEXVELA - ECPv4.9.10//NONSGML v1.0//EN
CALSCALE:GREGORIAN
METHOD:PUBLISH
X-WR-CALNAME:FEXVELA
X-ORIGINAL-URL:http://www.fexvela.com
X-WR-CALDESC:Eventos para FEXVELA
BEGIN:VTIMEZONE
TZID:Europe/Helsinki
BEGIN:DAYLIGHT
TZOFFSETFROM:+0200
TZOFFSETTO:+0300
TZNAME:EEST
DTSTART:20250330T010000
END:DAYLIGHT
BEGIN:STANDARD
TZOFFSETFROM:+0300
TZOFFSETTO:+0200
TZNAME:EET
DTSTART:20251026T010000
END:STANDARD
END:VTIMEZONE
BEGIN:VEVENT
DTSTART;VALUE=DATE:20250905
DTEND;VALUE=DATE:20250908
DTSTAMP:20260419T231934
CREATED:20250413T134426Z
LAST-MODIFIED:20250413T134426Z
UID:3312-1757030400-1757289599@www.fexvela.com
SUMMARY:COPA DE ESPAÑA AGUAS INTERIORES ILCA 4 Y 6
DESCRIPTION:
URL:http://www.fexvela.com/evento/copa-de-espana-aguas-interiores-ilca-4-y-6/
LOCATION:Real Club Nautico Madrid
CATEGORIES:Regatas y Competición
END:VEVENT
END:VCALENDAR