BEGIN:VCALENDAR
VERSION:2.0
PRODID:-//FEXVELA - ECPv4.9.10//NONSGML v1.0//EN
CALSCALE:GREGORIAN
METHOD:PUBLISH
X-WR-CALNAME:FEXVELA
X-ORIGINAL-URL:http://www.fexvela.com
X-WR-CALDESC:Eventos para FEXVELA
BEGIN:VTIMEZONE
TZID:Europe/Helsinki
BEGIN:DAYLIGHT
TZOFFSETFROM:+0200
TZOFFSETTO:+0300
TZNAME:EEST
DTSTART:20220327T010000
END:DAYLIGHT
BEGIN:STANDARD
TZOFFSETFROM:+0300
TZOFFSETTO:+0200
TZNAME:EET
DTSTART:20221030T010000
END:STANDARD
END:VTIMEZONE
BEGIN:VEVENT
DTSTART;VALUE=DATE:20220623
DTEND;VALUE=DATE:20220627
DTSTAMP:20260419T201334
CREATED:20220509T193322Z
LAST-MODIFIED:20220509T193842Z
UID:3026-1655942400-1656287999@www.fexvela.com
SUMMARY:Copa de España de AAII clase Optimist 2022
DESCRIPTION:Del 23 al 26 de junio de 2022 tendrá lugar en el Club de Vela Barlovento la Copa de España de Aguas Interiores de la clase Optimist. \nEsta competición contará con la participación mayoritaria de navegantes de federaciones de interior\, contando también con la participación de regatistas de federaciones de litoral. \n  \nANUNCIO DE REGATAS COPA DE ESPAÑA AAII OPTIMIST \n  \n  \n
URL:http://www.fexvela.com/evento/copa-de-espana-de-aaii-clase-optimist-2022/
LOCATION:Embalse de Borbollón\, Carretera Pantano de Borbollon\, 0 S/N\, Santibáñez el Alto\, Cáceres\, 10859\, España
END:VEVENT
END:VCALENDAR