BEGIN:VCALENDAR
VERSION:2.0
PRODID:-//FEXVELA - ECPv4.9.10//NONSGML v1.0//EN
CALSCALE:GREGORIAN
METHOD:PUBLISH
X-WR-CALNAME:FEXVELA
X-ORIGINAL-URL:http://www.fexvela.com
X-WR-CALDESC:Eventos para FEXVELA
BEGIN:VTIMEZONE
TZID:Europe/Helsinki
BEGIN:DAYLIGHT
TZOFFSETFROM:+0200
TZOFFSETTO:+0300
TZNAME:EEST
DTSTART:20230326T010000
END:DAYLIGHT
BEGIN:STANDARD
TZOFFSETFROM:+0300
TZOFFSETTO:+0200
TZNAME:EET
DTSTART:20231029T010000
END:STANDARD
END:VTIMEZONE
BEGIN:VEVENT
DTSTART;VALUE=DATE:20230622
DTEND;VALUE=DATE:20230626
DTSTAMP:20260419T182754
CREATED:20230512T121555Z
LAST-MODIFIED:20230512T122713Z
UID:3186-1687392000-1687737599@www.fexvela.com
SUMMARY:Copa de España de Aguas de Interior de la clase Optimist - 2023
DESCRIPTION: \nCOPA DE ESPAÑA DE AGUAS INTERIORES 2023 CLASE OPTIMIST \nII TROFEO EXTREMADURA TURISMO PARQUE CULTURAL SIERRA DE GATA \nLa Copa de España de Aguas Interiores 2023 para la Clase Internacional Optimist – II Trofeo Extremadura Turismo Parque cultural Sierra de Gata\, se celebrará en aguas del Embalse de Borbollón (Santibáñez el Alto – Cáceres)\, entre los días 22 a 25 de Junio de 2.023\, ambos inclusive. \nLa regata estará organizada por el CLUB DE VELA BARLOVENTO\, por delegación de la Real Federación Española de Vela\, en co \nlaboración con la Federación Extremeña de Vela y la Asociación Española de la Clase Internacional Optimist (AECIO)\, Dirección General de Deportes de la Junta de Extremadura\, Diputación de Cáceres\, Extremadura Turismo\, Parque Cultural Sierra de Gata\, Ayuntamiento de Moraleja y Ayuntamiento de Santibáñez el Alto. \n  \nANUNCIO DE REGATA COPA DE ESPAÑA DE AGUAS INTERIORES CLASE OPTIMIST 2023 \nBOLETIN INSCRIPCION COPA ESPAÑA A.I. CLASE OPTIMIST 2023 \nContacto: cvb.copa2019@yahoo.com \n  \n \n
URL:http://www.fexvela.com/evento/copa-de-espana-de-aguas-de-interior-de-la-clase-optimist-2023/
LOCATION:Embalse de Borbollón\, Carretera Pantano de Borbollon\, 0 S/N\, Santibáñez el Alto\, Cáceres\, 10859\, España
CATEGORIES:Actualidad,Club de Vela Barlovento,Regatas y Competición
ATTACH;FMTTYPE=image/jpeg:http://www.fexvela.com/wp-content/uploads/2023/05/cartel.jpg
END:VEVENT
END:VCALENDAR