BEGIN:VCALENDAR
VERSION:2.0
PRODID:-//FEXVELA - ECPv4.9.10//NONSGML v1.0//EN
CALSCALE:GREGORIAN
METHOD:PUBLISH
X-WR-CALNAME:FEXVELA
X-ORIGINAL-URL:http://www.fexvela.com
X-WR-CALDESC:Eventos para FEXVELA
BEGIN:VTIMEZONE
TZID:Europe/Helsinki
BEGIN:DAYLIGHT
TZOFFSETFROM:+0200
TZOFFSETTO:+0300
TZNAME:EEST
DTSTART:20190331T010000
END:DAYLIGHT
BEGIN:STANDARD
TZOFFSETFROM:+0300
TZOFFSETTO:+0200
TZNAME:EET
DTSTART:20191027T010000
END:STANDARD
END:VTIMEZONE
BEGIN:VEVENT
DTSTART;VALUE=DATE:20190627
DTEND;VALUE=DATE:20190701
DTSTAMP:20260420T043605
CREATED:20190510T154740Z
LAST-MODIFIED:20220819T183848Z
UID:2334-1561593600-1561939199@www.fexvela.com
SUMMARY:COPA DE ESPAÑA DE AGUAS INTERIORES 2019. CLASE OPTIMIST
DESCRIPTION:CLASE OPTIMIST\nANUNCIO DE REGATA\nEmbalse de Borbollón\, del 27 al 30 de junio 2019\nLa Copa de España de Aguas Interiores 2019 para la Clase Internacional OptimistTrofeo Extremadura Turismo Parque Cultural Sierra de Gata se celebrará en aguas del\nembalse de Borbollón\, en el término municipal de Santibáñez el Alto (Cáceres)\, entre los\ndías 27 y 30 de junio 2019\, ambos inclusive.\nLa regata estará organizada por el Club de Vela de Barlovento por delegación de la Real Federación Española de Vela\, en colaboración con la Federación Extremeña de Vela y la Asociación Española de la Clase Internacional Optimist (AECIO) y con la colaboración institucional del Parque Cultural Sierra de Gata\, la Dirección General de Turismo\, la Dirección General de Deportes\, la Diputación de Cáceres y los Ayuntamientos de Santibáñez el Alto y Moraleja. \nANUNCIO DE REGATA \n
URL:http://www.fexvela.com/evento/copa-de-espana-de-aguas-interiores-2019-clase-optimist/
CATEGORIES:Área Deportiva de Vela,Club de Vela Barlovento,Regatas y Competición
END:VEVENT
END:VCALENDAR