BEGIN:VCALENDAR
VERSION:2.0
PRODID:-//FEXVELA - ECPv4.9.10//NONSGML v1.0//EN
CALSCALE:GREGORIAN
METHOD:PUBLISH
X-WR-CALNAME:FEXVELA
X-ORIGINAL-URL:http://www.fexvela.com
X-WR-CALDESC:Eventos para FEXVELA
BEGIN:VTIMEZONE
TZID:Europe/Helsinki
BEGIN:DAYLIGHT
TZOFFSETFROM:+0200
TZOFFSETTO:+0300
TZNAME:EEST
DTSTART:20210328T010000
END:DAYLIGHT
BEGIN:STANDARD
TZOFFSETFROM:+0300
TZOFFSETTO:+0200
TZNAME:EET
DTSTART:20211031T010000
END:STANDARD
END:VTIMEZONE
BEGIN:VEVENT
DTSTART;TZID=Europe/Helsinki:20210630T080000
DTEND;TZID=Europe/Helsinki:20210630T170000
DTSTAMP:20260420T025834
CREATED:20210630T095445Z
LAST-MODIFIED:20210702T093747Z
UID:2622-1625040000-1625072400@www.fexvela.com
SUMMARY:Copa de España de Fórmula Windsurf y Campeonato de Extremadura 2021
DESCRIPTION:Durante los día 09\, 10 y 11 de julio el Club Escuela Náutica Granadilla celebrará en las instalaciones de El Anillo\, en el embalse de Gabriel y Galán\, la Copa de España de Fórmula Windsurf y Campeonato de Extremadura de 2021\, contando con la colaboración de la Federación Extremeña de Vela. \nLas pruebas se disputarán durante los días 10 y 11\, contando con participación de regatistas extremeños\, nacionales y de la vecina Portugal. \nLas inscripciones se pueden realizar en el Club Escuela Náutica Granadilla\, en el correo escuelanauticagranadilla2@gmail.com y en el número de teléfono 652852573 / 669609740. \n  \n  \n \n
URL:http://www.fexvela.com/evento/copa-de-espana-de-formula-windsurf-y-campeonato-de-extremadura-2021/
CATEGORIES:Actualidad,Escuela Naútica Granadilla,Regatas y Competición
END:VEVENT
END:VCALENDAR