BEGIN:VCALENDAR
VERSION:2.0
PRODID:-//FEXVELA - ECPv4.9.10//NONSGML v1.0//EN
CALSCALE:GREGORIAN
METHOD:PUBLISH
X-WR-CALNAME:FEXVELA
X-ORIGINAL-URL:http://www.fexvela.com
X-WR-CALDESC:Eventos para FEXVELA
BEGIN:VTIMEZONE
TZID:Europe/Helsinki
BEGIN:DAYLIGHT
TZOFFSETFROM:+0200
TZOFFSETTO:+0300
TZNAME:EEST
DTSTART:20180325T010000
END:DAYLIGHT
BEGIN:STANDARD
TZOFFSETFROM:+0300
TZOFFSETTO:+0200
TZNAME:EET
DTSTART:20181028T010000
END:STANDARD
END:VTIMEZONE
BEGIN:VEVENT
DTSTART;VALUE=DATE:20180723
DTEND;VALUE=DATE:20180730
DTSTAMP:20260421T121154
CREATED:20180719T124237Z
LAST-MODIFIED:20180719T124237Z
UID:2148-1532304000-1532908799@www.fexvela.com
SUMMARY:Curso de Vela en el CLUB DE VELA BARLOVENTO
DESCRIPTION:Curso de Vela en el embalse Borbollón organizado por el Club de Vela Barlovento y la Federación Extremeña de Vela. \nEl precio de la semana es de 70 € para los socios del C.V.B y 140 € para los demás\, con la licencia federativa y la comida incluida. \nSe impartirá los días: \n\n23 al 29 de julio\n30 al 05 de agosto\n6 al 12 de agosto.\n\nPara contacto: velabarlovento@hotmail.com \n
URL:http://www.fexvela.com/evento/cursovelacvb/
LOCATION:Embalse de Borbollón\, Carretera Pantano de Borbollon\, 0 S/N\, Santibáñez el Alto\, Cáceres\, 10859\, España
CATEGORIES:Curso de Vela,Formación
ATTACH;FMTTYPE=image/jpeg:http://www.fexvela.com/wp-content/uploads/2018/07/Curso-cvb.jpg
ORGANIZER;CN="Federaci%C3%B3n%20Extreme%C3%B1a%20de%20Vela":MAILTO:secretaria@fexvela.com
END:VEVENT
END:VCALENDAR