BEGIN:VCALENDAR
VERSION:2.0
PRODID:-//FEXVELA - ECPv4.9.10//NONSGML v1.0//EN
CALSCALE:GREGORIAN
METHOD:PUBLISH
X-WR-CALNAME:FEXVELA
X-ORIGINAL-URL:http://www.fexvela.com
X-WR-CALDESC:Eventos para FEXVELA
BEGIN:VTIMEZONE
TZID:Europe/Helsinki
BEGIN:DAYLIGHT
TZOFFSETFROM:+0200
TZOFFSETTO:+0300
TZNAME:EEST
DTSTART:20220327T010000
END:DAYLIGHT
BEGIN:STANDARD
TZOFFSETFROM:+0300
TZOFFSETTO:+0200
TZNAME:EET
DTSTART:20221030T010000
END:STANDARD
END:VTIMEZONE
BEGIN:VEVENT
DTSTART;VALUE=DATE:20220516
DTEND;VALUE=DATE:20220520
DTSTAMP:20260419T231800
CREATED:20220426T111025Z
LAST-MODIFIED:20220426T111859Z
UID:3003-1652659200-1653004799@www.fexvela.com
SUMMARY:PROADES 2022 - Badajoz - Centro Ibérico de Vela
DESCRIPTION:En el marco del programa PROADES (PROmoción y Ayuda al Deporte EScolar)\, los días 16\, 17\, 18 y 19 de mayo de 2022 se llevará a cabo la realización de esta actividad\, en aguas del Lago de Orellana\, en las instalaciones del Centro Ibérico de Vela\, en Orellana la Vieja. \n \n
URL:http://www.fexvela.com/evento/proades-2022-centro-iberico-de-vela/
LOCATION:Centro Ibérico de Vela\, Cerro de la Herrería\, s/n\, Orellana laVieja\, Badajoz\, 06740\, España
CATEGORIES:Actualidad
ORGANIZER;CN="Federaci%C3%B3n%20Extreme%C3%B1a%20de%20Vela":MAILTO:secretaria@fexvela.com
END:VEVENT
END:VCALENDAR