BEGIN:VCALENDAR
VERSION:2.0
PRODID:-//FEXVELA - ECPv4.9.10//NONSGML v1.0//EN
CALSCALE:GREGORIAN
METHOD:PUBLISH
X-WR-CALNAME:FEXVELA
X-ORIGINAL-URL:http://www.fexvela.com
X-WR-CALDESC:Eventos para FEXVELA
BEGIN:VTIMEZONE
TZID:Europe/Helsinki
BEGIN:DAYLIGHT
TZOFFSETFROM:+0200
TZOFFSETTO:+0300
TZNAME:EEST
DTSTART:20190331T010000
END:DAYLIGHT
BEGIN:STANDARD
TZOFFSETFROM:+0300
TZOFFSETTO:+0200
TZNAME:EET
DTSTART:20191027T010000
END:STANDARD
END:VTIMEZONE
BEGIN:VEVENT
DTSTART;VALUE=DATE:20190513
DTEND;VALUE=DATE:20190517
DTSTAMP:20260420T061547
CREATED:20190509T163911Z
LAST-MODIFIED:20190509T163911Z
UID:2322-1557705600-1558051199@www.fexvela.com
SUMMARY:PROADES-VELA\, Provincia de Cáceres.
DESCRIPTION:
URL:http://www.fexvela.com/evento/proades-vela-provincia-de-caceres-2/
ORGANIZER;CN="Federaci%C3%B3n%20Extreme%C3%B1a%20de%20Vela":MAILTO:secretaria@fexvela.com
END:VEVENT
END:VCALENDAR