BEGIN:VCALENDAR
VERSION:2.0
PRODID:-//FEXVELA - ECPv4.9.10//NONSGML v1.0//EN
CALSCALE:GREGORIAN
METHOD:PUBLISH
X-WR-CALNAME:FEXVELA
X-ORIGINAL-URL:http://www.fexvela.com
X-WR-CALDESC:Eventos para FEXVELA
BEGIN:VTIMEZONE
TZID:Europe/Helsinki
BEGIN:DAYLIGHT
TZOFFSETFROM:+0200
TZOFFSETTO:+0300
TZNAME:EEST
DTSTART:20250330T010000
END:DAYLIGHT
BEGIN:STANDARD
TZOFFSETFROM:+0300
TZOFFSETTO:+0200
TZNAME:EET
DTSTART:20251026T010000
END:STANDARD
END:VTIMEZONE
BEGIN:VEVENT
DTSTART;VALUE=DATE:20250719
DTEND;VALUE=DATE:20250721
DTSTAMP:20260420T023044
CREATED:20250413T132854Z
LAST-MODIFIED:20250413T132854Z
UID:3300-1752883200-1753055999@www.fexvela.com
SUMMARY:REGATA OPTIMIST
DESCRIPTION:
URL:http://www.fexvela.com/evento/regata-optimist/
LOCATION:Centro Ibérico de Vela\, Cerro de la Herrería\, s/n\, Orellana laVieja\, Badajoz\, 06740\, España
END:VEVENT
END:VCALENDAR