BEGIN:VCALENDAR
VERSION:2.0
PRODID:-//FEXVELA - ECPv4.9.10//NONSGML v1.0//EN
CALSCALE:GREGORIAN
METHOD:PUBLISH
X-WR-CALNAME:FEXVELA
X-ORIGINAL-URL:http://www.fexvela.com
X-WR-CALDESC:Eventos para FEXVELA
BEGIN:VTIMEZONE
TZID:Europe/Helsinki
BEGIN:DAYLIGHT
TZOFFSETFROM:+0200
TZOFFSETTO:+0300
TZNAME:EEST
DTSTART:20250330T010000
END:DAYLIGHT
BEGIN:STANDARD
TZOFFSETFROM:+0300
TZOFFSETTO:+0200
TZNAME:EET
DTSTART:20251026T010000
END:STANDARD
END:VTIMEZONE
BEGIN:VEVENT
DTSTART;VALUE=DATE:20250823
DTEND;VALUE=DATE:20250825
DTSTAMP:20260420T004940
CREATED:20250413T134202Z
LAST-MODIFIED:20250413T134202Z
UID:3310-1755907200-1756079999@www.fexvela.com
SUMMARY:1ª PRUEBA CAMPEONATO EXTREMADURA OPTIMIST Y 2ª PRUEBA CAMPEONATO EXTREMADURA ILCA 4 Y 6   1ª Prueba
DESCRIPTION:
URL:http://www.fexvela.com/evento/1a-prueba-campeonato-extremadura-optimist-y-2a-prueba-campeonato-extremadura-ilca-4-y-6-1a-prueba/
LOCATION:Club de Vela Barlovento\, Carretera Pantano de Borbollon\, S/N\,\, Santibañez el Alto\, Caceres\, 10859\, España
CATEGORIES:Regatas y Competición
END:VEVENT
END:VCALENDAR