BEGIN:VCALENDAR
VERSION:2.0
PRODID:-//FEXVELA - ECPv4.9.10//NONSGML v1.0//EN
CALSCALE:GREGORIAN
METHOD:PUBLISH
X-WR-CALNAME:FEXVELA
X-ORIGINAL-URL:http://www.fexvela.com
X-WR-CALDESC:Eventos para FEXVELA
BEGIN:VTIMEZONE
TZID:Europe/Helsinki
BEGIN:DAYLIGHT
TZOFFSETFROM:+0200
TZOFFSETTO:+0300
TZNAME:EEST
DTSTART:20250330T010000
END:DAYLIGHT
BEGIN:STANDARD
TZOFFSETFROM:+0300
TZOFFSETTO:+0200
TZNAME:EET
DTSTART:20251026T010000
END:STANDARD
END:VTIMEZONE
BEGIN:VEVENT
DTSTART;VALUE=DATE:20251025
DTEND;VALUE=DATE:20251027
DTSTAMP:20260419T212734
CREATED:20250413T135229Z
LAST-MODIFIED:20250413T135229Z
UID:3324-1761350400-1761523199@www.fexvela.com
SUMMARY:2ª PRUEBA CAMPEONATO EXTREMADURA 420
DESCRIPTION:
URL:http://www.fexvela.com/evento/2a-prueba-campeonato-extremadura-420/
LOCATION:Centro Ibérico de Vela\, Cerro de la Herrería\, s/n\, Orellana laVieja\, Badajoz\, 06740\, España
CATEGORIES:Centro Ibérico de Vela,Regatas y Competición
END:VEVENT
END:VCALENDAR